Workbook
Name _MailAutoSig: 'Pay Range Booklet'!$B$1051
Name BusinessUnit: #REF!
Name ChangeOptions: #REF!

Sheet Pay Range Booklet
A1: JOB CODE | B1: JOB TITLE | C1: EFF DATE | D1: BU | E1: RNG | F1: STEP 1 | G1: STEP 2 | H1: STEP 3 | I1: STEP 4 | J1: STEP 5 | K1: STEP 6 | L1: STEP 7 | M1: STEP 8 | N1: STEP 9
A2: 12121 | B2: Statistics Clerk | C2: 38053 | D2: 9 | E2: 27 | F2: =SUMIFS('Salary_OTM Query'!$F:$F,'Salary_OTM Query'!$B:$B,$A2,'Salary_OTM Query'!$E:$E,"=1") -> 22.59 | G2: =SUMIFS('Salary_OTM Query'!$F:$F,'Salary_OTM Query'!$B:$B,$A2,'Salary_OTM Query'!$E:$E,"=2") -> 23.28 | H2: =SUMIFS('Salary_OTM Query'!$F:$F,'Salary_OTM Query'!$B:$B,$A2,'Salary_OTM Query'!$E:$E,"=3") -> 23.65 | I2: =SUMIFS('Salary_OTM Query'!$F:$F,'Salary_OTM Query'!$B:$B,$A2,'Salary_OTM Query'!$E:$E,"=4") -> 24.27 | J2: =SUMIFS('Salary_OTM Query'!$F:$F,'Salary_OTM Query'!$B:$B,$A2,'Salary_OTM Query'!$E:$E,"=5") -> 24.88 | K2: =SUMIFS('Salary_OTM Query'!$F:$F,'Salary_OTM Query'!$B:$B,$A2,'Salary_OTM Query'!$E:$E,"=6") -> 25.61 | L2: =SUMIFS('Salary_OTM Query'!$F:$F,'Salary_OTM Query'!$B:$B,$A2,'Salary_OTM Query'!$E:$E,"=7") -> 26.54 | M2: =SUMIFS('Salary_OTM Query'!$F:$F,'Salary_OTM Query'!$B:$B,$A2,'Salary_OTM Query'!$E:$E,"=8") -> 0 | N2: =SUMIFS('Salary_OTM Query'!$F:$F,'Salary_OTM Query'!$B:$B,$A2,'Salary_OTM Query'!$E:$E,"=9") -> 0
A3: 12131 | B3: Telephone Operator 1 | C3: 36247 | D3: 9 | E3: 4 | F3: =SUMIFS('Salary_OTM Query'!$F:$F,'Salary_OTM Query'!$B:$B,$A3,'Salary_OTM Query'!$E:$E,"=1") -> 20.78 | G3: =SUMIFS('Salary_OTM Query'!$F:$F,'Salary_OTM Query'!$B:$B,$A3,'Salary_OTM Query'!$E:$E,"=2") -> 21.28 | H3: =SUMIFS('Salary_OTM Query'!$F:$F,'Salary_OTM Query'!$B:$B,$A3,'Salary_OTM Query'!$E:$E,"=3") -> 21.83 | I3: =SUMIFS('Salary_OTM Query'!$F:$F,'Salary_OTM Query'!$B:$B,$A3,'Salary_OTM Query'!$E:$E,"=4") -> 22.29 | J3: =SUMIFS('Salary_OTM Query'!$F:$F,'Salary_OTM Query'!$B:$B,$A3,'Salary_OTM Query'!$E:$E,"=5") -> 0 | K3: =SUMIFS('Salary_OTM Query'!$F:$F,'Salary_OTM Query'!$B:$B,$A3,'Salary_OTM Query'!$E:$E,"=6") -> 0 | L3: =SUMIFS('Salary_OTM Query'!$F:$F,'Salary_OTM Query'!$B:$B,$A3,'Salary_OTM Query'!$E:$E,"=7") -> 0 | M3: =SUMIFS('Salary_OTM Query'!$F:$F,'Salary_OTM Query'!$B:$B,$A3,'Salary_OTM Query'!$E:$E,"=8") -> 0 | N3: =SUMIFS('Salary_OTM Query'!$F:$F,'Salary_OTM Query'!$B:$B,$A3,'Salary_OTM Query'!$E:$E,"=9") -> 0
A4: 12132 | B4: Telephone Operator 2 | C4: 36247 | D4: 9 | E4: 25 | F4: =SUMIFS('Salary_OTM Query'!$F:$F,'Salary_OTM Query'!$B:$B,$A4,'Salary_OTM Query'!$E:$E,"=1") -> 21.02 | G4: =SUMIFS('Salary_OTM Query'!$F:$F,'Salary_OTM Query'!$B:$B,$A4,'Salary_OTM Query'!$E:$E,"=2") -> 21.48 | H4: =SUMIFS('Salary_OTM Query'!$F:$F,'Salary_OTM Query'!$B:$B,$A4,'Salary_OTM Query'!$E:$E,"=3") -> 22.04 | I4: =SUMIFS('Salary_OTM Query'!$F:$F,'Salary_OTM Query'!$B:$B,$A4,'Salary_OTM Query'!$E:$E,"=4") -> 22.59 | J4: =SUMIFS('Salary_OTM Query'!$F:$F,'Salary_OTM Query'!$B:$B,$A4,'Salary_OTM Query'!$E:$E,"=5") -> 23.28 | K4: =SUMIFS('Salary_OTM Query'!$F:$F,'Salary_OTM Query'!$B:$B,$A4,'Salary_OTM Query'!$E:$E,"=6") -> 23.65 | L4: =SUMIFS('Salary_OTM Query'!$F:$F,'Salary_OTM Query'!$B:$B,$A4,'Salary_OTM Query'!$E:$E,"=7") -> 0 | M4: =SUMIFS('Salary_OTM Query'!$F:$F,'Salary_OTM Query'!$B:$B,$A4,'Salary_OTM Query'!$E:$E,"=8") -> 0 | N4: =SUMIFS('Salary_OTM Query'!$F:$F,'Salary_OTM Query'!$B:$B,$A4,'Salary_OTM Query'!$E:$E,"=9") -> 0
A5: 12141 | B5: Office Professional 1 | C5: 42953 | D5: 9 | E5: 24 | F5: =SUMIFS('Salary_OTM Query'!$F:$F,'Salary_OTM Query'!$B:$B,$A5,'Salary_OTM Query'!$E:$E,"=1") -> 20.3 | G5: =SUMIFS('Salary_OTM Query'!$F:$F,'Salary_OTM Query'!$B:$B,$A5,'Salary_OTM Query'!$E:$E,"=2") -> 20.78 | H5: =SUMIFS('Salary_OTM Query'!$F:$F,'Salary_OTM Query'!$B:$B,$A5,'Salary_OTM Query'!$E:$E,"=3") -> 21.28 | I5: =SUMIFS('Salary_OTM Query'!$F:$F,'Salary_OTM Query'!$B:$B,$A5,'Salary_OTM Query'!$E:$E,"=4") -> 21.83 | J5: =SUMIFS('Salary_OTM Query'!$F:$F,'Salary_OTM Query'!$B:$B,$A5,'Salary_OTM Query'!$E:$E,"=5") -> 22.29 | K5: =SUMIFS('Salary_OTM Query'!$F:$F,'Salary_OTM Query'!$B:$B,$A5,'Salary_OTM Query'!$E:$E,"=6") -> 0 | L5: =SUMIFS('Salary_OTM Query'!$F:$F,'Salary_OTM Query'!$B:$B,$A5,'Salary_OTM Query'!$E:$E,"=7") -> 0 | M5: =SUMIFS('Salary_OTM Query'!$F:$F,'Salary_OTM Query'!$B:$B,$A5,'Salary_OTM Query'!$E:$E,"=8") -> 0 | N5: =SUMIFS('Salary_OTM Query'!$F:$F,'Salary_OTM Query'!$B:$B,$A5,'Salary_OTM Query'!$E:$E,"=9") -> 0
A6: 12142 | B6: Office Professional 2 | C6: 43079 | D6: 9 | E6: 26 | F6: =SUMIFS('Salary_OTM Query'!$F:$F,'Salary_OTM Query'!$B:$B,$A6,'Salary_OTM Query'!$E:$E,"=1") -> 21.83 | G6: =SUMIFS('Salary_OTM Query'!$F:$F,'Salary_OTM Query'!$B:$B,$A6,'Salary_OTM Query'!$E:$E,"=2") -> 22.29 | H6: =SUMIFS('Salary_OTM Query'!$F:$F,'Salary_OTM Query'!$B:$B,$A6,'Salary_OTM Query'!$E:$E,"=3") -> 22.86 | I6: =SUMIFS('Salary_OTM Query'!$F:$F,'Salary_OTM Query'!$B:$B,$A6,'Salary_OTM Query'!$E:$E,"=4") -> 23.45 | J6: =SUMIFS('Salary_OTM Query'!$F:$F,'Salary_OTM Query'!$B:$B,$A6,'Salary_OTM Query'!$E:$E,"=5") -> 24.02 | K6: =SUMIFS('Salary_OTM Query'!$F:$F,'Salary_OTM Query'!$B:$B,$A6,'Salary_OTM Query'!$E:$E,"=6") -> 24.63 | L6: =SUMIFS('Salary_OTM Query'!$F:$F,'Salary_OTM Query'!$B:$B,$A6,'Salary_OTM Query'!$E:$E,"=7") -> 0 | M6: =SUMIFS('Salary_OTM Query'!$F:$F,'Salary_OTM Query'!$B:$B,$A6,'Salary_OTM Query'!$E:$E,"=8") -> 0 | N6: =SUMIFS('Salary_OTM Query'!$F:$F,'Salary_OTM Query'!$B:$B,$A6,'Salary_OTM Query'!$E:$E,"=9") -> 0
A7: 12145 | B7: Office Professional Supervisor | C7: 42953 | D7: 22 | E7: 9 | F7: =SUMIFS('Salary_OTM Query'!$F:$F,'Salary_OTM Query'!$B:$B,$A7,'Salary_OTM Query'!$E:$E,"=1") -> 25.72 | G7: =SUMIFS('Salary_OTM Query'!$F:$F,'Salary_OTM Query'!$B:$B,$A7,'Salary_OTM Query'!$E:$E,"=2") -> 27.06 | H7: =SUMIFS('Salary_OTM Query'!$F:$F,'Salary_OTM Query'!$B:$B,$A7,'Salary_OTM Query'!$E:$E,"=3") -> 28.39 | I7: =SUMIFS('Salary_OTM Query'!$F:$F,'Salary_OTM Query'!$B:$B,$A7,'Salary_OTM Query'!$E:$E,"=4") -> 29.81 | J7: =SUMIFS('Salary_OTM Query'!$F:$F,'Salary_OTM Query'!$B:$B,$A7,'Salary_OTM Query'!$E:$E,"=5") -> 31.31 | K7: =SUMIFS('Salary_OTM Query'!$F:$F,'Salary_OTM Query'!$B:$B,$A7,'Salary_OTM Query'!$E:$E,"=6") -> 0 | L7: =SUMIFS('Salary_OTM Query'!$F:$F,'Salary_OTM Query'!$B:$B,$A7,'Salary_OTM Query'!$E:$E,"=7") -> 0 | M7: =SUMIFS('Salary_OTM Query'!$F:$F,'Salary_OTM Query'!$B:$B,$A7,'Salary_OTM Query'!$E:$E,"=8") -> 0 | N7: =SUMIFS('Salary_OTM Query'!$F:$F,'Salary_OTM Query'!$B:$B,$A7,'Salary_OTM Query'!$E:$E,"=9") -> 0
A8: 12311 | B8: Data Storage Technician 1 | C8: 38053 | D8: 9 | E8: 27 | F8: =SUMIFS('Salary_OTM Query'!$F:$F,'Salary_OTM Query'!$B:$B,$A8,'Salary_OTM Query'!$E:$E,"=1") -> 22.59 | G8: =SUMIFS('Salary_OTM Query'!$F:$F,'Salary_OTM Query'!$B:$B,$A8,'Salary_OTM Query'!$E:$E,"=2") -> 23.28 | H8: =SUMIFS('Salary_OTM Query'!$F:$F,'Salary_OTM Query'!$B:$B,$A8,'Salary_OTM Query'!$E:$E,"=3") -> 23.65 | I8: =SUMIFS('Salary_OTM Query'!$F:$F,'Salary_OTM Query'!$B:$B,$A8,'Salary_OTM Query'!$E:$E,"=4") -> 24.27 | J8: =SUMIFS('Salary_OTM Query'!$F:$F,'Salary_OTM Query'!$B:$B,$A8,'Salary_OTM Query'!$E:$E,"=5") -> 24.88 | K8: =SUMIFS('Salary_OTM Query'!$F:$F,'Salary_OTM Query'!$B:$B,$A8,'Salary_OTM Query'!$E:$E,"=6") -> 25.61 | L8: =SUMIFS('Salary_OTM Query'!$F:$F,'Salary_OTM Query'!$B:$B,$A8,'Salary_OTM Query'!$E:$E,"=7") -> 26.54 | M8: =SUMIFS('Salary_OTM Query'!$F:$F,'Salary_OTM Query'!$B:$B,$A8,'Salary_OTM Query'!$E:$E,"=8") -> 0 | N8: =SUMIFS('Salary_OTM Query'!$F:$F,'Salary_OTM Query'!$B:$B,$A8,'Salary_OTM Query'!$E:$E,"=9") -> 0
A9: 12312 | B9: Data Storage Technician 2 | C9: 32958 | D9: 9 | E9: 28 | F9: =SUMIFS('Salary_OTM Query'!$F:$F,'Salary_OTM Query'!$B:$B,$A9,'Salary_OTM Query'!$E:$E,"=1") -> 23.65 | G9: =SUMIFS('Salary_OTM Query'!$F:$F,'Salary_OTM Query'!$B:$B,$A9,'Salary_OTM Query'!$E:$E,"=2") -> 24.27 | H9: =SUMIFS('Salary_OTM Query'!$F:$F,'Salary_OTM Query'!$B:$B,$A9,'Salary_OTM Query'!$E:$E,"=3") -> 24.88 | I9: =SUMIFS('Salary_OTM Query'!$F:$F,'Salary_OTM Query'!$B:$B,$A9,'Salary_OTM Query'!$E:$E,"=4") -> 25.61 | J9: =SUMIFS('Salary_OTM Query'!$F:$F,'Salary_OTM Query'!$B:$B,$A9,'Salary_OTM Query'!$E:$E,"=5") -> 26.54 | K9: =SUMIFS('Salary_OTM Query'!$F:$F,'Salary_OTM Query'!$B:$B,$A9,'Salary_OTM Query'!$E:$E,"=6") -> 27.56 | L9: =SUMIFS('Salary_OTM Query'!$F:$F,'Salary_OTM Query'!$B:$B,$A9,'Salary_OTM Query'!$E:$E,"=7") -> 28.76 | M9: =SUMIFS('Salary_OTM Query'!$F:$F,'Salary_OTM Query'!$B:$B,$A9,'Salary_OTM Query'!$E:$E,"=8") -> 0 | N9: =SUMIFS('Salary_OTM Query'!$F:$F,'Salary_OTM Query'!$B:$B,$A9,'Salary_OTM Query'!$E:$E,"=9") -> 0
A10: 12321 | B10: Data Processor 1 | C10: 32958 | D10: 9 | E10: 4 | F10: =SUMIFS('Salary_OTM Query'!$F:$F,'Salary_OTM Query'!$B:$B,$A10,'Salary_OTM Query'!$E:$E,"=1") -> 20.78 | G10: =SUMIFS('Salary_OTM Query'!$F:$F,'Salary_OTM Query'!$B:$B,$A10,'Salary_OTM Query'!$E:$E,"=2") -> 21.28 | H10: =SUMIFS('Salary_OTM Query'!$F:$F,'Salary_OTM Query'!$B:$B,$A10,'Salary_OTM Query'!$E:$E,"=3") -> 21.83 | I10: =SUMIFS('Salary_OTM Query'!$F:$F,'Salary_OTM Query'!$B:$B,$A10,'Salary_OTM Query'!$E:$E,"=4") -> 22.29 | J10: =SUMIFS('Salary_OTM Query'!$F:$F,'Salary_OTM Query'!$B:$B,$A10,'Salary_OTM Query'!$E:$E,"=5") -> 0 | K10: =SUMIFS('Salary_OTM Query'!$F:$F,'Salary_OTM Query'!$B:$B,$A10,'Salary_OTM Query'!$E:$E,"=6") -> 0 | L10: =SUMIFS('Salary_OTM Query'!$F:$F,'Salary_OTM Query'!$B:$B,$A10,'Salary_OTM Query'!$E:$E,"=7") -> 0 | M10: =SUMIFS('Salary_OTM Query'!$F:$F,'Salary_OTM Query'!$B:$B,$A10,'Salary_OTM Query'!$E:$E,"=8") -> 0 | N10: =SUMIFS('Salary_OTM Query'!$F:$F,'Salary_OTM Query'!$B:$B,$A10,'Salary_OTM Query'!$E:$E,"=9") -> 0
A11: 12322 | B11: Data Processor 2 | C11: 32958 | D11: 9 | E11: 25 | F11: =SUMIFS('Salary_OTM Query'!$F:$F,'Salary_OTM Query'!$B:$B,$A11,'Salary_OTM Query'!$E:$E,"=1") -> 21.02 | G11: =SUMIFS('Salary_OTM Query'!$F:$F,'Salary_OTM Query'!$B:$B,$A11,'Salary_OTM Query'!$E:$E,"=2") -> 21.48 | H11: =SUMIFS('Salary_OTM Query'!$F:$F,'Salary_OTM Query'!$B:$B,$A11,'Salary_OTM Query'!$E:$E,"=3") -> 22.04 | I11: =SUMIFS('Salary_OTM Query'!$F:$F,'Salary_OTM Query'!$B:$B,$A11,'Salary_OTM Query'!$E:$E,"=4") -> 22.59 | J11: =SUMIFS('Salary_OTM Query'!$F:$F,'Salary_OTM Query'!$B:$B,$A11,'Salary_OTM Query'!$E:$E,"=5") -> 23.28 | K11: =SUMIFS('Salary_OTM Query'!$F:$F,'Salary_OTM Query'!$B:$B,$A11,'Salary_OTM Query'!$E:$E,"=6") -> 23.65 | L11: =SUMIFS('Salary_OTM Query'!$F:$F,'Salary_OTM Query'!$B:$B,$A11,'Salary_OTM Query'!$E:$E,"=7") -> 0 | M11: =SUMIFS('Salary_OTM Query'!$F:$F,'Salary_OTM Query'!$B:$B,$A11,'Salary_OTM Query'!$E:$E,"=8") -> 0 | N11: =SUMIFS('Salary_OTM Query'!$F:$F,'Salary_OTM Query'!$B:$B,$A11,'Salary_OTM Query'!$E:$E,"=9") -> 0
A12: 12323 | B12: Data Processor 3 | C12: 32958 | D12: 9 | E12: 26 | F12: =SUMIFS('Salary_OTM Query'!$F:$F,'Salary_OTM Query'!$B:$B,$A12,'Salary_OTM Query'!$E:$E,"=1") -> 21.83 | G12: =SUMIFS('Salary_OTM Query'!$F:$F,'Salary_OTM Query'!$B:$B,$A12,'Salary_OTM Query'!$E:$E,"=2") -> 22.29 | H12: =SUMIFS('Salary_OTM Query'!$F:$F,'Salary_OTM Query'!$B:$B,$A12,'Salary_OTM Query'!$E:$E,"=3") -> 22.86 | I12: =SUMIFS('Salary_OTM Query'!$F:$F,'Salary_OTM Query'!$B:$B,$A12,'Salary_OTM Query'!$E:$E,"=4") -> 23.45 | J12: =SUMIFS('Salary_OTM Query'!$F:$F,'Salary_OTM Query'!$B:$B,$A12,'Salary_OTM Query'!$E:$E,"=5") -> 24.02 | K12: =SUMIFS('Salary_OTM Query'!$F:$F,'Salary_OTM Query'!$B:$B,$A12,'Salary_OTM Query'!$E:$E,"=6") -> 24.63 | L12: =SUMIFS('Salary_OTM Query'!$F:$F,'Salary_OTM Query'!$B:$B,$A12,'Salary_OTM Query'!$E:$E,"=7") -> 0 | M12: =SUMIFS('Salary_OTM Query'!$F:$F,'Salary_OTM Query'!$B:$B,$A12,'Salary_OTM Query'!$E:$E,"=8") -> 0 | N12: =SUMIFS('Salary_OTM Query'!$F:$F,'Salary_OTM Query'!$B:$B,$A12,'Salary_OTM Query'!$E:$E,"=9") -> 0
A13: 12331 | B13: Data Entry Operator 1 | C13: 32958 | D13: 9 | E13: 4 | F13: =SUMIFS('Salary_OTM Query'!$F:$F,'Salary_OTM Query'!$B:$B,$A13,'Salary_OTM Query'!$E:$E,"=1") -> 20.78 | G13: =SUMIFS('Salary_OTM Query'!$F:$F,'Salary_OTM Query'!$B:$B,$A13,'Salary_OTM Query'!$E:$E,"=2") -> 21.28 | H13: =SUMIFS('Salary_OTM Query'!$F:$F,'Salary_OTM Query'!$B:$B,$A13,'Salary_OTM Query'!$E:$E,"=3") -> 21.83 | I13: =SUMIFS('Salary_OTM Query'!$F:$F,'Salary_OTM Query'!$B:$B,$A13,'Salary_OTM Query'!$E:$E,"=4") -> 22.29 | J13: =SUMIFS('Salary_OTM Query'!$F:$F,'Salary_OTM Query'!$B:$B,$A13,'Salary_OTM Query'!$E:$E,"=5") -> 0 | K13: =SUMIFS('Salary_OTM Query'!$F:$F,'Salary_OTM Query'!$B:$B,$A13,'Salary_OTM Query'!$E:$E,"=6") -> 0 | L13: =SUMIFS('Salary_OTM Query'!$F:$F,'Salary_OTM Query'!$B:$B,$A13,'Salary_OTM Query'!$E:$E,"=7") -> 0 | M13: =SUMIFS('Salary_OTM Query'!$F:$F,'Salary_OTM Query'!$B:$B,$A13,'Salary_OTM Query'!$E:$E,"=8") -> 0 | N13: =SUMIFS('Salary_OTM Query'!$F:$F,'Salary_OTM Query'!$B:$B,$A13,'Salary_OTM Query'!$E:$E,"=9") -> 0
... A183: 22333 | B183: Forest Manager 3 | C183: 45823 | D183: 22 | E183: 12 | F183: =SUMIFS('Salary_OTM Query'!$F:$F,'Salary_OTM Query'!$B:$B,$A183,'Salary_OTM Query'!$E:$E,"=1") -> 33.32 | G183: =SUMIFS('Salary_OTM Query'!$F:$F,'Salary_OTM Query'!$B:$B,$A183,'Salary_OTM Query'!$E:$E,"=2") -> 35.21 | H183: =SUMIFS('Salary_OTM Query'!$F:$F,'Salary_OTM Query'!$B:$B,$A183,'Salary_OTM Query'!$E:$E,"=3") -> 37.09 | I183: =SUMIFS('Salary_OTM Query'!$F:$F,'Salary_OTM Query'!$B:$B,$A183,'Salary_OTM Query'!$E:$E,"=4") -> 39.14 | J183: =SUMIFS('Salary_OTM Query'!$F:$F,'Salary_OTM Query'!$B:$B,$A183,'Salary_OTM Query'!$E:$E,"=5") -> 41.31 | K183: =SUMIFS('Salary_OTM Query'!$F:$F,'Salary_OTM Query'!$B:$B,$A183,'Salary_OTM Query'!$E:$E,"=6") -> 43.57 | L183: =SUMIFS('Salary_OTM Query'!$F:$F,'Salary_OTM Query'!$B:$B,$A183,'Salary_OTM Query'!$E:$E,"=7") -> 45.35 | M183: =SUMIFS('Salary_OTM Query'!$F:$F,'Salary_OTM Query'!$B:$B,$A183,'Salary_OTM Query'!$E:$E,"=8") -> 47.47 | N183: =SUMIFS('Salary_OTM Query'!$F:$F,'Salary_OTM Query'!$B:$B,$A183,'Salary_OTM Query'!$E:$E,"=9") -> 0
A184: 22334 | B184: Forest Manager 4 | C184: 45823 | D184: 22 | E184: 13 | F184: =SUMIFS('Salary_OTM Query'!$F:$F,'Salary_OTM Query'!$B:$B,$A184,'Salary_OTM Query'!$E:$E,"=1") -> 36.75 | G184: =SUMIFS('Salary_OTM Query'!$F:$F,'Salary_OTM Query'!$B:$B,$A184,'Salary_OTM Query'!$E:$E,"=2") -> 38.75 | H184: =SUMIFS('Salary_OTM Query'!$F:$F,'Salary_OTM Query'!$B:$B,$A184,'Salary_OTM Query'!$E:$E,"=3") -> 40.87 | I184: =SUMIFS('Salary_OTM Query'!$F:$F,'Salary_OTM Query'!$B:$B,$A184,'Salary_OTM Query'!$E:$E,"=4") -> 43.07 | J184: =SUMIFS('Salary_OTM Query'!$F:$F,'Salary_OTM Query'!$B:$B,$A184,'Salary_OTM Query'!$E:$E,"=5") -> 45.5 | K184: =SUMIFS('Salary_OTM Query'!$F:$F,'Salary_OTM Query'!$B:$B,$A184,'Salary_OTM Query'!$E:$E,"=6") -> 47.95 | L184: =SUMIFS('Salary_OTM Query'!$F:$F,'Salary_OTM Query'!$B:$B,$A184,'Salary_OTM Query'!$E:$E,"=7") -> 49.92 | M184: =SUMIFS('Salary_OTM Query'!$F:$F,'Salary_OTM Query'!$B:$B,$A184,'Salary_OTM Query'!$E:$E,"=8") -> 52.27
A185: 22336 | B185: District Forest Manager | C185: 45823 | D185: 22 | E185: 14 | F185: =SUMIFS('Salary_OTM Query'!$F:$F,'Salary_OTM Query'!$B:$B,$A185,'Salary_OTM Query'!$E:$E,"=1") -> 40.4 | G185: =SUMIFS('Salary_OTM Query'!$F:$F,'Salary_OTM Query'!$B:$B,$A185,'Salary_OTM Query'!$E:$E,"=2") -> 42.7 | H185: =SUMIFS('Salary_OTM Query'!$F:$F,'Salary_OTM Query'!$B:$B,$A185,'Salary_OTM Query'!$E:$E,"=3") -> 44.99 | I185: =SUMIFS('Salary_OTM Query'!$F:$F,'Salary_OTM Query'!$B:$B,$A185,'Salary_OTM Query'!$E:$E,"=4") -> 47.43 | J185: =SUMIFS('Salary_OTM Query'!$F:$F,'Salary_OTM Query'!$B:$B,$A185,'Salary_OTM Query'!$E:$E,"=5") -> 50.12 | K185: =SUMIFS('Salary_OTM Query'!$F:$F,'Salary_OTM Query'!$B:$B,$A185,'Salary_OTM Query'!$E:$E,"=6") -> 52.9 | L185: =SUMIFS('Salary_OTM Query'!$F:$F,'Salary_OTM Query'!$B:$B,$A185,'Salary_OTM Query'!$E:$E,"=7") -> 55.09 | M185: =SUMIFS('Salary_OTM Query'!$F:$F,'Salary_OTM Query'!$B:$B,$A185,'Salary_OTM Query'!$E:$E,"=8") -> 57.67 | N185: =SUMIFS('Salary_OTM Query'!$F:$F,'Salary_OTM Query'!$B:$B,$A185,'Salary_OTM Query'!$E:$E,"=9") -> 0
A186: 22356 | B186: Nursery Manager | C186: 45361 | D186: 22 | E186: 12 | F186: =SUMIFS('Salary_OTM Query'!$F:$F,'Salary_OTM Query'!$B:$B,$A186,'Salary_OTM Query'!$E:$E,"=1") -> 33.32 | G186: =SUMIFS('Salary_OTM Query'!$F:$F,'Salary_OTM Query'!$B:$B,$A186,'Salary_OTM Query'!$E:$E,"=2") -> 35.21 | H186: =SUMIFS('Salary_OTM Query'!$F:$F,'Salary_OTM Query'!$B:$B,$A186,'Salary_OTM Query'!$E:$E,"=3") -> 37.09 | I186: =SUMIFS('Salary_OTM Query'!$F:$F,'Salary_OTM Query'!$B:$B,$A186,'Salary_OTM Query'!$E:$E,"=4") -> 39.14 | J186: =SUMIFS('Salary_OTM Query'!$F:$F,'Salary_OTM Query'!$B:$B,$A186,'Salary_OTM Query'!$E:$E,"=5") -> 41.31 | K186: =SUMIFS('Salary_OTM Query'!$F:$F,'Salary_OTM Query'!$B:$B,$A186,'Salary_OTM Query'!$E:$E,"=6") -> 43.57 | L186: =SUMIFS('Salary_OTM Query'!$F:$F,'Salary_OTM Query'!$B:$B,$A186,'Salary_OTM Query'!$E:$E,"=7") -> 45.35 | M186: =SUMIFS('Salary_OTM Query'!$F:$F,'Salary_OTM Query'!$B:$B,$A186,'Salary_OTM Query'!$E:$E,"=8") -> 47.47 | N186: =SUMIFS('Salary_OTM Query'!$F:$F,'Salary_OTM Query'!$B:$B,$A186,'Salary_OTM Query'!$E:$E,"=9") -> 0
A187: 22365 | B187: Wildlife Propagation Unit Supervisor | C187: 35771 | D187: 22 | E187: 11 | F187: =SUMIFS('Salary_OTM Query'!$F:$F,'Salary_OTM Query'!$B:$B,$A187,'Salary_OTM Query'!$E:$E,"=1") -> 30.22 | G187: =SUMIFS('Salary_OTM Query'!$F:$F,'Salary_OTM Query'!$B:$B,$A187,'Salary_OTM Query'!$E:$E,"=2") -> 31.96 | H187: =SUMIFS('Salary_OTM Query'!$F:$F,'Salary_OTM Query'!$B:$B,$A187,'Salary_OTM Query'!$E:$E,"=3") -> 33.81 | I187: =SUMIFS('Salary_OTM Query'!$F:$F,'Salary_OTM Query'!$B:$B,$A187,'Salary_OTM Query'!$E:$E,"=4") -> 35.72 | J187: =SUMIFS('Salary_OTM Query'!$F:$F,'Salary_OTM Query'!$B:$B,$A187,'Salary_OTM Query'!$E:$E,"=5") -> 37.75 | K187: =SUMIFS('Salary_OTM Query'!$F:$F,'Salary_OTM Query'!$B:$B,$A187,'Salary_OTM Query'!$E:$E,"=6") -> 0 | L187: =SUMIFS('Salary_OTM Query'!$F:$F,'Salary_OTM Query'!$B:$B,$A187,'Salary_OTM Query'!$E:$E,"=7") -> 0 | M187: =SUMIFS('Salary_OTM Query'!$F:$F,'Salary_OTM Query'!$B:$B,$A187,'Salary_OTM Query'!$E:$E,"=8") -> 0 | N187: =SUMIFS('Salary_OTM Query'!$F:$F,'Salary_OTM Query'!$B:$B,$A187,'Salary_OTM Query'!$E:$E,"=9") -> 0
A188: 22411 | B188: Preserve Manager Aide | C188: 35757 | D188: 6 | E188: 28 | F188: =SUMIFS('Salary_OTM Query'!$F:$F,'Salary_OTM Query'!$B:$B,$A188,'Salary_OTM Query'!$E:$E,"=1") -> 23.65 | G188: =SUMIFS('Salary_OTM Query'!$F:$F,'Salary_OTM Query'!$B:$B,$A188,'Salary_OTM Query'!$E:$E,"=2") -> 24.27 | H188: =SUMIFS('Salary_OTM Query'!$F:$F,'Salary_OTM Query'!$B:$B,$A188,'Salary_OTM Query'!$E:$E,"=3") -> 24.88 | I188: =SUMIFS('Salary_OTM Query'!$F:$F,'Salary_OTM Query'!$B:$B,$A188,'Salary_OTM Query'!$E:$E,"=4") -> 25.61 | J188: =SUMIFS('Salary_OTM Query'!$F:$F,'Salary_OTM Query'!$B:$B,$A188,'Salary_OTM Query'!$E:$E,"=5") -> 26.54 | K188: =SUMIFS('Salary_OTM Query'!$F:$F,'Salary_OTM Query'!$B:$B,$A188,'Salary_OTM Query'!$E:$E,"=6") -> 27.56 | L188: =SUMIFS('Salary_OTM Query'!$F:$F,'Salary_OTM Query'!$B:$B,$A188,'Salary_OTM Query'!$E:$E,"=7") -> 28.76 | M188: =SUMIFS('Salary_OTM Query'!$F:$F,'Salary_OTM Query'!$B:$B,$A188,'Salary_OTM Query'!$E:$E,"=8") -> 0 | N188: =SUMIFS('Salary_OTM Query'!$F:$F,'Salary_OTM Query'!$B:$B,$A188,'Salary_OTM Query'!$E:$E,"=9") -> 0
A189: 22415 | B189: Preserve Manager | C189: 43709 | D189: 22 | E189: 10 | F189: =SUMIFS('Salary_OTM Query'!$F:$F,'Salary_OTM Query'!$B:$B,$A189,'Salary_OTM Query'!$E:$E,"=1") -> 27.73 | G189: =SUMIFS('Salary_OTM Query'!$F:$F,'Salary_OTM Query'!$B:$B,$A189,'Salary_OTM Query'!$E:$E,"=2") -> 29.25 | H189: =SUMIFS('Salary_OTM Query'!$F:$F,'Salary_OTM Query'!$B:$B,$A189,'Salary_OTM Query'!$E:$E,"=3") -> 30.83 | I189: =SUMIFS('Salary_OTM Query'!$F:$F,'Salary_OTM Query'!$B:$B,$A189,'Salary_OTM Query'!$E:$E,"=4") -> 32.61 | J189: =SUMIFS('Salary_OTM Query'!$F:$F,'Salary_OTM Query'!$B:$B,$A189,'Salary_OTM Query'!$E:$E,"=5") -> 34.35 | K189: =SUMIFS('Salary_OTM Query'!$F:$F,'Salary_OTM Query'!$B:$B,$A189,'Salary_OTM Query'!$E:$E,"=6") -> 0 | L189: =SUMIFS('Salary_OTM Query'!$F:$F,'Salary_OTM Query'!$B:$B,$A189,'Salary_OTM Query'!$E:$E,"=7") -> 0 | M189: =SUMIFS('Salary_OTM Query'!$F:$F,'Salary_OTM Query'!$B:$B,$A189,'Salary_OTM Query'!$E:$E,"=8") -> 0 | N189: =SUMIFS('Salary_OTM Query'!$F:$F,'Salary_OTM Query'!$B:$B,$A189,'Salary_OTM Query'!$E:$E,"=9") -> 0
A190: 22416 | B190: District Preserve Manager | C190: 43709 | D190: 22 | E190: 11 | F190: =SUMIFS('Salary_OTM Query'!$F:$F,'Salary_OTM Query'!$B:$B,$A190,'Salary_OTM Query'!$E:$E,"=1") -> 30.22 | G190: =SUMIFS('Salary_OTM Query'!$F:$F,'Salary_OTM Query'!$B:$B,$A190,'Salary_OTM Query'!$E:$E,"=2") -> 31.96 | H190: =SUMIFS('Salary_OTM Query'!$F:$F,'Salary_OTM Query'!$B:$B,$A190,'Salary_OTM Query'!$E:$E,"=3") -> 33.81 | I190: =SUMIFS('Salary_OTM Query'!$F:$F,'Salary_OTM Query'!$B:$B,$A190,'Salary_OTM Query'!$E:$E,"=4") -> 35.72 | J190: =SUMIFS('Salary_OTM Query'!$F:$F,'Salary_OTM Query'!$B:$B,$A190,'Salary_OTM Query'!$E:$E,"=5") -> 37.75 | K190: =SUMIFS('Salary_OTM Query'!$F:$F,'Salary_OTM Query'!$B:$B,$A190,'Salary_OTM Query'!$E:$E,"=6") -> 0 | L190: =SUMIFS('Salary_OTM Query'!$F:$F,'Salary_OTM Query'!$B:$B,$A190,'Salary_OTM Query'!$E:$E,"=7") -> 0 | M190: =SUMIFS('Salary_OTM Query'!$F:$F,'Salary_OTM Query'!$B:$B,$A190,'Salary_OTM Query'!$E:$E,"=8") -> 0 | N190: =SUMIFS('Salary_OTM Query'!$F:$F,'Salary_OTM Query'!$B:$B,$A190,'Salary_OTM Query'!$E:$E,"=9") -> 0
A191: 22417 | B191: Regional Preserve Manager | C191: 43149 | D191: 22 | E191: 12 | F191: =SUMIFS('Salary_OTM Query'!$F:$F,'Salary_OTM Query'!$B:$B,$A191,'Salary_OTM Query'!$E:$E,"=1") -> 33.32 | G191: =SUMIFS('Salary_OTM Query'!$F:$F,'Salary_OTM Query'!$B:$B,$A191,'Salary_OTM Query'!$E:$E,"=2") -> 35.21 | H191: =SUMIFS('Salary_OTM Query'!$F:$F,'Salary_OTM Query'!$B:$B,$A191,'Salary_OTM Query'!$E:$E,"=3") -> 37.09 | I191: =SUMIFS('Salary_OTM Query'!$F:$F,'Salary_OTM Query'!$B:$B,$A191,'Salary_OTM Query'!$E:$E,"=4") -> 39.14 | J191: =SUMIFS('Salary_OTM Query'!$F:$F,'Salary_OTM Query'!$B:$B,$A191,'Salary_OTM Query'!$E:$E,"=5") -> 41.31 | K191: =SUMIFS('Salary_OTM Query'!$F:$F,'Salary_OTM Query'!$B:$B,$A191,'Salary_OTM Query'!$E:$E,"=6") -> 43.57 | L191: =SUMIFS('Salary_OTM Query'!$F:$F,'Salary_OTM Query'!$B:$B,$A191,'Salary_OTM Query'!$E:$E,"=7") -> 45.35 | M191: =SUMIFS('Salary_OTM Query'!$F:$F,'Salary_OTM Query'!$B:$B,$A191,'Salary_OTM Query'!$E:$E,"=8") -> 47.47 | N191: =SUMIFS('Salary_OTM Query'!$F:$F,'Salary_OTM Query'!$B:$B,$A191,'Salary_OTM Query'!$E:$E,"=9") -> 0
A192: 22515 | B192: Assistant Park & Watercraft Manager | C192: 43373 | D192: 22 | E192: 10 | F192: =SUMIFS('Salary_OTM Query'!$F:$F,'Salary_OTM Query'!$B:$B,$A192,'Salary_OTM Query'!$E:$E,"=1") -> 27.73 | G192: =SUMIFS('Salary_OTM Query'!$F:$F,'Salary_OTM Query'!$B:$B,$A192,'Salary_OTM Query'!$E:$E,"=2") -> 29.25 | H192: =SUMIFS('Salary_OTM Query'!$F:$F,'Salary_OTM Query'!$B:$B,$A192,'Salary_OTM Query'!$E:$E,"=3") -> 30.83 | I192: =SUMIFS('Salary_OTM Query'!$F:$F,'Salary_OTM Query'!$B:$B,$A192,'Salary_OTM Query'!$E:$E,"=4") -> 32.61 | J192: =SUMIFS('Salary_OTM Query'!$F:$F,'Salary_OTM Query'!$B:$B,$A192,'Salary_OTM Query'!$E:$E,"=5") -> 34.35 | K192: =SUMIFS('Salary_OTM Query'!$F:$F,'Salary_OTM Query'!$B:$B,$A192,'Salary_OTM Query'!$E:$E,"=6") -> 0 | L192: =SUMIFS('Salary_OTM Query'!$F:$F,'Salary_OTM Query'!$B:$B,$A192,'Salary_OTM Query'!$E:$E,"=7") -> 0 | M192: =SUMIFS('Salary_OTM Query'!$F:$F,'Salary_OTM Query'!$B:$B,$A192,'Salary_OTM Query'!$E:$E,"=8") -> 0 | N192: =SUMIFS('Salary_OTM Query'!$F:$F,'Salary_OTM Query'!$B:$B,$A192,'Salary_OTM Query'!$E:$E,"=9") -> 0
A193: 22516 | B193: Park & Watercraft Manager 1 | C193: 43373 | D193: 22 | E193: 12 | F193: =SUMIFS('Salary_OTM Query'!$F:$F,'Salary_OTM Query'!$B:$B,$A193,'Salary_OTM Query'!$E:$E,"=1") -> 33.32 | G193: =SUMIFS('Salary_OTM Query'!$F:$F,'Salary_OTM Query'!$B:$B,$A193,'Salary_OTM Query'!$E:$E,"=2") -> 35.21 | H193: =SUMIFS('Salary_OTM Query'!$F:$F,'Salary_OTM Query'!$B:$B,$A193,'Salary_OTM Query'!$E:$E,"=3") -> 37.09 | I193: =SUMIFS('Salary_OTM Query'!$F:$F,'Salary_OTM Query'!$B:$B,$A193,'Salary_OTM Query'!$E:$E,"=4") -> 39.14 | J193: =SUMIFS('Salary_OTM Query'!$F:$F,'Salary_OTM Query'!$B:$B,$A193,'Salary_OTM Query'!$E:$E,"=5") -> 41.31 | K193: =SUMIFS('Salary_OTM Query'!$F:$F,'Salary_OTM Query'!$B:$B,$A193,'Salary_OTM Query'!$E:$E,"=6") -> 43.57 | L193: =SUMIFS('Salary_OTM Query'!$F:$F,'Salary_OTM Query'!$B:$B,$A193,'Salary_OTM Query'!$E:$E,"=7") -> 45.35 | M193: =SUMIFS('Salary_OTM Query'!$F:$F,'Salary_OTM Query'!$B:$B,$A193,'Salary_OTM Query'!$E:$E,"=8") -> 47.47 | N193: =SUMIFS('Salary_OTM Query'!$F:$F,'Salary_OTM Query'!$B:$B,$A193,'Salary_OTM Query'!$E:$E,"=9") -> 0
A194: 22517 | B194: Park & Watercraft Manager 2 | C194: 43373 | D194: 22 | E194: 13 | F194: =SUMIFS('Salary_OTM Query'!$F:$F,'Salary_OTM Query'!$B:$B,$A194,'Salary_OTM Query'!$E:$E,"=1") -> 36.75 | G194: =SUMIFS('Salary_OTM Query'!$F:$F,'Salary_OTM Query'!$B:$B,$A194,'Salary_OTM Query'!$E:$E,"=2") -> 38.75 | H194: =SUMIFS('Salary_OTM Query'!$F:$F,'Salary_OTM Query'!$B:$B,$A194,'Salary_OTM Query'!$E:$E,"=3") -> 40.87 | I194: =SUMIFS('Salary_OTM Query'!$F:$F,'Salary_OTM Query'!$B:$B,$A194,'Salary_OTM Query'!$E:$E,"=4") -> 43.07 | J194: =SUMIFS('Salary_OTM Query'!$F:$F,'Salary_OTM Query'!$B:$B,$A194,'Salary_OTM Query'!$E:$E,"=5") -> 45.5 | K194: =SUMIFS('Salary_OTM Query'!$F:$F,'Salary_OTM Query'!$B:$B,$A194,'Salary_OTM Query'!$E:$E,"=6") -> 47.95 | L194: =SUMIFS('Salary_OTM Query'!$F:$F,'Salary_OTM Query'!$B:$B,$A194,'Salary_OTM Query'!$E:$E,"=7") -> 49.92 | M194: =SUMIFS('Salary_OTM Query'!$F:$F,'Salary_OTM Query'!$B:$B,$A194,'Salary_OTM Query'!$E:$E,"=8") -> 52.27 | N194: =SUMIFS('Salary_OTM Query'!$F:$F,'Salary_OTM Query'!$B:$B,$A194,'Salary_OTM Query'!$E:$E,"=9") -> 0
A195: 22518 | B195: District Park & Watercraft Manager | C195: 43373 | D195: 22 | E195: 15 | F195: =SUMIFS('Salary_OTM Query'!$F:$F,'Salary_OTM Query'!$B:$B,$A195,'Salary_OTM Query'!$E:$E,"=1") -> 44.38 | G195: =SUMIFS('Salary_OTM Query'!$F:$F,'Salary_OTM Query'!$B:$B,$A195,'Salary_OTM Query'!$E:$E,"=2") -> 46.88 | H195: =SUMIFS('Salary_OTM Query'!$F:$F,'Salary_OTM Query'!$B:$B,$A195,'Salary_OTM Query'!$E:$E,"=3") -> 49.52 | I195: =SUMIFS('Salary_OTM Query'!$F:$F,'Salary_OTM Query'!$B:$B,$A195,'Salary_OTM Query'!$E:$E,"=4") -> 52.24 | J195: =SUMIFS('Salary_OTM Query'!$F:$F,'Salary_OTM Query'!$B:$B,$A195,'Salary_OTM Query'!$E:$E,"=5") -> 55.15 | K195: =SUMIFS('Salary_OTM Query'!$F:$F,'Salary_OTM Query'!$B:$B,$A195,'Salary_OTM Query'!$E:$E,"=6") -> 58.16 | L195: =SUMIFS('Salary_OTM Query'!$F:$F,'Salary_OTM Query'!$B:$B,$A195,'Salary_OTM Query'!$E:$E,"=7") -> 60.55 | M195: =SUMIFS('Salary_OTM Query'!$F:$F,'Salary_OTM Query'!$B:$B,$A195,'Salary_OTM Query'!$E:$E,"=8") -> 63.41 | N195: =SUMIFS('Salary_OTM Query'!$F:$F,'Salary_OTM Query'!$B:$B,$A195,'Salary_OTM Query'!$E:$E,"=9") -> 0
A196: 22520 | B196: Natural Resources Officer Cadet | C196: 45711 | D196: 2 | E196: 9 | F196: =SUMIFS('Salary_OTM Query'!$F:$F,'Salary_OTM Query'!$B:$B,$A196,'Salary_OTM Query'!$E:$E,"=1") -> 26.2 | G196: =SUMIFS('Salary_OTM Query'!$F:$F,'Salary_OTM Query'!$B:$B,$A196,'Salary_OTM Query'!$E:$E,"=2") -> 27.55 | H196: =SUMIFS('Salary_OTM Query'!$F:$F,'Salary_OTM Query'!$B:$B,$A196,'Salary_OTM Query'!$E:$E,"=3") -> 28.56 | I196: =SUMIFS('Salary_OTM Query'!$F:$F,'Salary_OTM Query'!$B:$B,$A196,'Salary_OTM Query'!$E:$E,"=4") -> 29.71 | J196: =SUMIFS('Salary_OTM Query'!$F:$F,'Salary_OTM Query'!$B:$B,$A196,'Salary_OTM Query'!$E:$E,"=5") -> 31.1 | K196: =SUMIFS('Salary_OTM Query'!$F:$F,'Salary_OTM Query'!$B:$B,$A196,'Salary_OTM Query'!$E:$E,"=6") -> 32.64 | L196: =SUMIFS('Salary_OTM Query'!$F:$F,'Salary_OTM Query'!$B:$B,$A196,'Salary_OTM Query'!$E:$E,"=7") -> 0 | M196: =SUMIFS('Salary_OTM Query'!$F:$F,'Salary_OTM Query'!$B:$B,$A196,'Salary_OTM Query'!$E:$E,"=8") -> 0 | N196: =SUMIFS('Salary_OTM Query'!$F:$F,'Salary_OTM Query'!$B:$B,$A196,'Salary_OTM Query'!$E:$E,"=9") -> 0
... A281: 24333 | B281: Driver License Examiner 2 (Lead Worker) | C281: 45558 | D281: 7 | E281: 29 | F281: =SUMIFS('Salary_OTM Query'!$F:$F,'Salary_OTM Query'!$B:$B,$A281,'Salary_OTM Query'!$E:$E,"=1") -> 24.88 | G281: =SUMIFS('Salary_OTM Query'!$F:$F,'Salary_OTM Query'!$B:$B,$A281,'Salary_OTM Query'!$E:$E,"=2") -> 25.61 | H281: =SUMIFS('Salary_OTM Query'!$F:$F,'Salary_OTM Query'!$B:$B,$A281,'Salary_OTM Query'!$E:$E,"=3") -> 26.54 | I281: =SUMIFS('Salary_OTM Query'!$F:$F,'Salary_OTM Query'!$B:$B,$A281,'Salary_OTM Query'!$E:$E,"=4") -> 27.56 | J281: =SUMIFS('Salary_OTM Query'!$F:$F,'Salary_OTM Query'!$B:$B,$A281,'Salary_OTM Query'!$E:$E,"=5") -> 28.76 | K281: =SUMIFS('Salary_OTM Query'!$F:$F,'Salary_OTM Query'!$B:$B,$A281,'Salary_OTM Query'!$E:$E,"=6") -> 30.1 | L281: =SUMIFS('Salary_OTM Query'!$F:$F,'Salary_OTM Query'!$B:$B,$A281,'Salary_OTM Query'!$E:$E,"=7") -> 31.47 | M281: =SUMIFS('Salary_OTM Query'!$F:$F,'Salary_OTM Query'!$B:$B,$A281,'Salary_OTM Query'!$E:$E,"=8") -> 0 | N281: =SUMIFS('Salary_OTM Query'!$F:$F,'Salary_OTM Query'!$B:$B,$A281,'Salary_OTM Query'!$E:$E,"=9") -> 0
A282: 24334 | B282: Driver License Examiner Field Rep | C282: 45558 | D282: 7 | E282: 29 | F282: =SUMIFS('Salary_OTM Query'!$F:$F,'Salary_OTM Query'!$B:$B,$A282,'Salary_OTM Query'!$E:$E,"=1") -> 24.88 | G282: =SUMIFS('Salary_OTM Query'!$F:$F,'Salary_OTM Query'!$B:$B,$A282,'Salary_OTM Query'!$E:$E,"=2") -> 25.61 | H282: =SUMIFS('Salary_OTM Query'!$F:$F,'Salary_OTM Query'!$B:$B,$A282,'Salary_OTM Query'!$E:$E,"=3") -> 26.54 | I282: =SUMIFS('Salary_OTM Query'!$F:$F,'Salary_OTM Query'!$B:$B,$A282,'Salary_OTM Query'!$E:$E,"=4") -> 27.56 | J282: =SUMIFS('Salary_OTM Query'!$F:$F,'Salary_OTM Query'!$B:$B,$A282,'Salary_OTM Query'!$E:$E,"=5") -> 28.76 | K282: =SUMIFS('Salary_OTM Query'!$F:$F,'Salary_OTM Query'!$B:$B,$A282,'Salary_OTM Query'!$E:$E,"=6") -> 30.1 | L282: =SUMIFS('Salary_OTM Query'!$F:$F,'Salary_OTM Query'!$B:$B,$A282,'Salary_OTM Query'!$E:$E,"=7") -> 31.47 | M282: =SUMIFS('Salary_OTM Query'!$F:$F,'Salary_OTM Query'!$B:$B,$A282,'Salary_OTM Query'!$E:$E,"=8") -> 0
A283: 24335 | B283: Driver License Station Supervisor | C283: 42995 | D283: 22 | E283: 10 | F283: =SUMIFS('Salary_OTM Query'!$F:$F,'Salary_OTM Query'!$B:$B,$A283,'Salary_OTM Query'!$E:$E,"=1") -> 27.73 | G283: =SUMIFS('Salary_OTM Query'!$F:$F,'Salary_OTM Query'!$B:$B,$A283,'Salary_OTM Query'!$E:$E,"=2") -> 29.25 | H283: =SUMIFS('Salary_OTM Query'!$F:$F,'Salary_OTM Query'!$B:$B,$A283,'Salary_OTM Query'!$E:$E,"=3") -> 30.83 | I283: =SUMIFS('Salary_OTM Query'!$F:$F,'Salary_OTM Query'!$B:$B,$A283,'Salary_OTM Query'!$E:$E,"=4") -> 32.61 | J283: =SUMIFS('Salary_OTM Query'!$F:$F,'Salary_OTM Query'!$B:$B,$A283,'Salary_OTM Query'!$E:$E,"=5") -> 34.35 | K283: =SUMIFS('Salary_OTM Query'!$F:$F,'Salary_OTM Query'!$B:$B,$A283,'Salary_OTM Query'!$E:$E,"=6") -> 0 | L283: =SUMIFS('Salary_OTM Query'!$F:$F,'Salary_OTM Query'!$B:$B,$A283,'Salary_OTM Query'!$E:$E,"=7") -> 0 | M283: =SUMIFS('Salary_OTM Query'!$F:$F,'Salary_OTM Query'!$B:$B,$A283,'Salary_OTM Query'!$E:$E,"=8") -> 0 | N283: =SUMIFS('Salary_OTM Query'!$F:$F,'Salary_OTM Query'!$B:$B,$A283,'Salary_OTM Query'!$E:$E,"=9") -> 0
A284: 24336 | B284: Driver License Examining Supervisor | C284: 42995 | D284: 22 | E284: 11 | F284: =SUMIFS('Salary_OTM Query'!$F:$F,'Salary_OTM Query'!$B:$B,$A284,'Salary_OTM Query'!$E:$E,"=1") -> 30.22 | G284: =SUMIFS('Salary_OTM Query'!$F:$F,'Salary_OTM Query'!$B:$B,$A284,'Salary_OTM Query'!$E:$E,"=2") -> 31.96 | H284: =SUMIFS('Salary_OTM Query'!$F:$F,'Salary_OTM Query'!$B:$B,$A284,'Salary_OTM Query'!$E:$E,"=3") -> 33.81 | I284: =SUMIFS('Salary_OTM Query'!$F:$F,'Salary_OTM Query'!$B:$B,$A284,'Salary_OTM Query'!$E:$E,"=4") -> 35.72 | J284: =SUMIFS('Salary_OTM Query'!$F:$F,'Salary_OTM Query'!$B:$B,$A284,'Salary_OTM Query'!$E:$E,"=5") -> 37.75 | K284: =SUMIFS('Salary_OTM Query'!$F:$F,'Salary_OTM Query'!$B:$B,$A284,'Salary_OTM Query'!$E:$E,"=6") -> 0 | L284: =SUMIFS('Salary_OTM Query'!$F:$F,'Salary_OTM Query'!$B:$B,$A284,'Salary_OTM Query'!$E:$E,"=7") -> 0 | M284: =SUMIFS('Salary_OTM Query'!$F:$F,'Salary_OTM Query'!$B:$B,$A284,'Salary_OTM Query'!$E:$E,"=8") -> 0 | N284: =SUMIFS('Salary_OTM Query'!$F:$F,'Salary_OTM Query'!$B:$B,$A284,'Salary_OTM Query'!$E:$E,"=9") -> 0
A285: 24341 | B285: Customer Service Specialist 1 | C285: 38949 | D285: 7 | E285: 29 | F285: =SUMIFS('Salary_OTM Query'!$F:$F,'Salary_OTM Query'!$B:$B,$A285,'Salary_OTM Query'!$E:$E,"=1") -> 24.88 | G285: =SUMIFS('Salary_OTM Query'!$F:$F,'Salary_OTM Query'!$B:$B,$A285,'Salary_OTM Query'!$E:$E,"=2") -> 25.61 | H285: =SUMIFS('Salary_OTM Query'!$F:$F,'Salary_OTM Query'!$B:$B,$A285,'Salary_OTM Query'!$E:$E,"=3") -> 26.54 | I285: =SUMIFS('Salary_OTM Query'!$F:$F,'Salary_OTM Query'!$B:$B,$A285,'Salary_OTM Query'!$E:$E,"=4") -> 27.56 | J285: =SUMIFS('Salary_OTM Query'!$F:$F,'Salary_OTM Query'!$B:$B,$A285,'Salary_OTM Query'!$E:$E,"=5") -> 28.76 | K285: =SUMIFS('Salary_OTM Query'!$F:$F,'Salary_OTM Query'!$B:$B,$A285,'Salary_OTM Query'!$E:$E,"=6") -> 30.1 | L285: =SUMIFS('Salary_OTM Query'!$F:$F,'Salary_OTM Query'!$B:$B,$A285,'Salary_OTM Query'!$E:$E,"=7") -> 31.47 | M285: =SUMIFS('Salary_OTM Query'!$F:$F,'Salary_OTM Query'!$B:$B,$A285,'Salary_OTM Query'!$E:$E,"=8") -> 0 | N285: =SUMIFS('Salary_OTM Query'!$F:$F,'Salary_OTM Query'!$B:$B,$A285,'Salary_OTM Query'!$E:$E,"=9") -> 0
A286: 24342 | B286: Customer Service Specialist 2 | C286: 38949 | D286: 7 | E286: 30 | F286: =SUMIFS('Salary_OTM Query'!$F:$F,'Salary_OTM Query'!$B:$B,$A286,'Salary_OTM Query'!$E:$E,"=1") -> 26.54 | G286: =SUMIFS('Salary_OTM Query'!$F:$F,'Salary_OTM Query'!$B:$B,$A286,'Salary_OTM Query'!$E:$E,"=2") -> 27.56 | H286: =SUMIFS('Salary_OTM Query'!$F:$F,'Salary_OTM Query'!$B:$B,$A286,'Salary_OTM Query'!$E:$E,"=3") -> 28.76 | I286: =SUMIFS('Salary_OTM Query'!$F:$F,'Salary_OTM Query'!$B:$B,$A286,'Salary_OTM Query'!$E:$E,"=4") -> 30.1 | J286: =SUMIFS('Salary_OTM Query'!$F:$F,'Salary_OTM Query'!$B:$B,$A286,'Salary_OTM Query'!$E:$E,"=5") -> 31.47 | K286: =SUMIFS('Salary_OTM Query'!$F:$F,'Salary_OTM Query'!$B:$B,$A286,'Salary_OTM Query'!$E:$E,"=6") -> 32.84 | L286: =SUMIFS('Salary_OTM Query'!$F:$F,'Salary_OTM Query'!$B:$B,$A286,'Salary_OTM Query'!$E:$E,"=7") -> 34.53 | M286: =SUMIFS('Salary_OTM Query'!$F:$F,'Salary_OTM Query'!$B:$B,$A286,'Salary_OTM Query'!$E:$E,"=8") -> 0 | N286: =SUMIFS('Salary_OTM Query'!$F:$F,'Salary_OTM Query'!$B:$B,$A286,'Salary_OTM Query'!$E:$E,"=9") -> 0
A287: 24351 | B287: Motor Vehicle Inspector | C287: 42939 | D287: 7 | E287: 28 | F287: =SUMIFS('Salary_OTM Query'!$F:$F,'Salary_OTM Query'!$B:$B,$A287,'Salary_OTM Query'!$E:$E,"=1") -> 23.65 | G287: =SUMIFS('Salary_OTM Query'!$F:$F,'Salary_OTM Query'!$B:$B,$A287,'Salary_OTM Query'!$E:$E,"=2") -> 24.27 | H287: =SUMIFS('Salary_OTM Query'!$F:$F,'Salary_OTM Query'!$B:$B,$A287,'Salary_OTM Query'!$E:$E,"=3") -> 24.88 | I287: =SUMIFS('Salary_OTM Query'!$F:$F,'Salary_OTM Query'!$B:$B,$A287,'Salary_OTM Query'!$E:$E,"=4") -> 25.61 | J287: =SUMIFS('Salary_OTM Query'!$F:$F,'Salary_OTM Query'!$B:$B,$A287,'Salary_OTM Query'!$E:$E,"=5") -> 26.54 | K287: =SUMIFS('Salary_OTM Query'!$F:$F,'Salary_OTM Query'!$B:$B,$A287,'Salary_OTM Query'!$E:$E,"=6") -> 27.56 | L287: =SUMIFS('Salary_OTM Query'!$F:$F,'Salary_OTM Query'!$B:$B,$A287,'Salary_OTM Query'!$E:$E,"=7") -> 28.76 | M287: =SUMIFS('Salary_OTM Query'!$F:$F,'Salary_OTM Query'!$B:$B,$A287,'Salary_OTM Query'!$E:$E,"=8") -> 0 | N287: =SUMIFS('Salary_OTM Query'!$F:$F,'Salary_OTM Query'!$B:$B,$A287,'Salary_OTM Query'!$E:$E,"=9") -> 0
A288: 24411 | B288: Industrial Safety Inspector | C288: 38875 | D288: 7 | E288: 29 | F288: =SUMIFS('Salary_OTM Query'!$F:$F,'Salary_OTM Query'!$B:$B,$A288,'Salary_OTM Query'!$E:$E,"=1") -> 24.88 | G288: =SUMIFS('Salary_OTM Query'!$F:$F,'Salary_OTM Query'!$B:$B,$A288,'Salary_OTM Query'!$E:$E,"=2") -> 25.61 | H288: =SUMIFS('Salary_OTM Query'!$F:$F,'Salary_OTM Query'!$B:$B,$A288,'Salary_OTM Query'!$E:$E,"=3") -> 26.54 | I288: =SUMIFS('Salary_OTM Query'!$F:$F,'Salary_OTM Query'!$B:$B,$A288,'Salary_OTM Query'!$E:$E,"=4") -> 27.56 | J288: =SUMIFS('Salary_OTM Query'!$F:$F,'Salary_OTM Query'!$B:$B,$A288,'Salary_OTM Query'!$E:$E,"=5") -> 28.76 | K288: =SUMIFS('Salary_OTM Query'!$F:$F,'Salary_OTM Query'!$B:$B,$A288,'Salary_OTM Query'!$E:$E,"=6") -> 30.1 | L288: =SUMIFS('Salary_OTM Query'!$F:$F,'Salary_OTM Query'!$B:$B,$A288,'Salary_OTM Query'!$E:$E,"=7") -> 31.47 | M288: =SUMIFS('Salary_OTM Query'!$F:$F,'Salary_OTM Query'!$B:$B,$A288,'Salary_OTM Query'!$E:$E,"=8") -> 0 | N288: =SUMIFS('Salary_OTM Query'!$F:$F,'Salary_OTM Query'!$B:$B,$A288,'Salary_OTM Query'!$E:$E,"=9") -> 0
A289: 24416 | B289: Industrial Safety Inspection Supervisor | C289: 38361 | D289: 22 | E289: 12 | F289: =SUMIFS('Salary_OTM Query'!$F:$F,'Salary_OTM Query'!$B:$B,$A289,'Salary_OTM Query'!$E:$E,"=1") -> 33.32 | G289: =SUMIFS('Salary_OTM Query'!$F:$F,'Salary_OTM Query'!$B:$B,$A289,'Salary_OTM Query'!$E:$E,"=2") -> 35.21 | H289: =SUMIFS('Salary_OTM Query'!$F:$F,'Salary_OTM Query'!$B:$B,$A289,'Salary_OTM Query'!$E:$E,"=3") -> 37.09 | I289: =SUMIFS('Salary_OTM Query'!$F:$F,'Salary_OTM Query'!$B:$B,$A289,'Salary_OTM Query'!$E:$E,"=4") -> 39.14 | J289: =SUMIFS('Salary_OTM Query'!$F:$F,'Salary_OTM Query'!$B:$B,$A289,'Salary_OTM Query'!$E:$E,"=5") -> 41.31 | K289: =SUMIFS('Salary_OTM Query'!$F:$F,'Salary_OTM Query'!$B:$B,$A289,'Salary_OTM Query'!$E:$E,"=6") -> 43.57 | L289: =SUMIFS('Salary_OTM Query'!$F:$F,'Salary_OTM Query'!$B:$B,$A289,'Salary_OTM Query'!$E:$E,"=7") -> 45.35 | M289: =SUMIFS('Salary_OTM Query'!$F:$F,'Salary_OTM Query'!$B:$B,$A289,'Salary_OTM Query'!$E:$E,"=8") -> 47.47 | N289: =SUMIFS('Salary_OTM Query'!$F:$F,'Salary_OTM Query'!$B:$B,$A289,'Salary_OTM Query'!$E:$E,"=9") -> 0
A290: 24421 | B290: Breath Alcohol Testing Inspector | C290: 42547 | D290: 7 | E290: 28 | F290: =SUMIFS('Salary_OTM Query'!$F:$F,'Salary_OTM Query'!$B:$B,$A290,'Salary_OTM Query'!$E:$E,"=1") -> 23.65 | G290: =SUMIFS('Salary_OTM Query'!$F:$F,'Salary_OTM Query'!$B:$B,$A290,'Salary_OTM Query'!$E:$E,"=2") -> 24.27 | H290: =SUMIFS('Salary_OTM Query'!$F:$F,'Salary_OTM Query'!$B:$B,$A290,'Salary_OTM Query'!$E:$E,"=3") -> 24.88 | I290: =SUMIFS('Salary_OTM Query'!$F:$F,'Salary_OTM Query'!$B:$B,$A290,'Salary_OTM Query'!$E:$E,"=4") -> 25.61 | J290: =SUMIFS('Salary_OTM Query'!$F:$F,'Salary_OTM Query'!$B:$B,$A290,'Salary_OTM Query'!$E:$E,"=5") -> 26.54 | K290: =SUMIFS('Salary_OTM Query'!$F:$F,'Salary_OTM Query'!$B:$B,$A290,'Salary_OTM Query'!$E:$E,"=6") -> 27.56 | L290: =SUMIFS('Salary_OTM Query'!$F:$F,'Salary_OTM Query'!$B:$B,$A290,'Salary_OTM Query'!$E:$E,"=7") -> 28.76 | M290: =SUMIFS('Salary_OTM Query'!$F:$F,'Salary_OTM Query'!$B:$B,$A290,'Salary_OTM Query'!$E:$E,"=8") -> 0 | N290: =SUMIFS('Salary_OTM Query'!$F:$F,'Salary_OTM Query'!$B:$B,$A290,'Salary_OTM Query'!$E:$E,"=9") -> 0
A291: 24425 | B291: Breath Alcohol Testing Inspection Supervisor | C291: 42547 | D291: 22 | E291: 11 | F291: =SUMIFS('Salary_OTM Query'!$F:$F,'Salary_OTM Query'!$B:$B,$A291,'Salary_OTM Query'!$E:$E,"=1") -> 30.22 | G291: =SUMIFS('Salary_OTM Query'!$F:$F,'Salary_OTM Query'!$B:$B,$A291,'Salary_OTM Query'!$E:$E,"=2") -> 31.96 | H291: =SUMIFS('Salary_OTM Query'!$F:$F,'Salary_OTM Query'!$B:$B,$A291,'Salary_OTM Query'!$E:$E,"=3") -> 33.81 | I291: =SUMIFS('Salary_OTM Query'!$F:$F,'Salary_OTM Query'!$B:$B,$A291,'Salary_OTM Query'!$E:$E,"=4") -> 35.72 | J291: =SUMIFS('Salary_OTM Query'!$F:$F,'Salary_OTM Query'!$B:$B,$A291,'Salary_OTM Query'!$E:$E,"=5") -> 37.75 | K291: =SUMIFS('Salary_OTM Query'!$F:$F,'Salary_OTM Query'!$B:$B,$A291,'Salary_OTM Query'!$E:$E,"=6") -> 0 | L291: =SUMIFS('Salary_OTM Query'!$F:$F,'Salary_OTM Query'!$B:$B,$A291,'Salary_OTM Query'!$E:$E,"=7") -> 0 | M291: =SUMIFS('Salary_OTM Query'!$F:$F,'Salary_OTM Query'!$B:$B,$A291,'Salary_OTM Query'!$E:$E,"=8") -> 0 | N291: =SUMIFS('Salary_OTM Query'!$F:$F,'Salary_OTM Query'!$B:$B,$A291,'Salary_OTM Query'!$E:$E,"=9") -> 0
A292: 24431 | B292: Safety and Health Inspector 1 | C292: 32958 | D292: 7 | E292: 28 | F292: =SUMIFS('Salary_OTM Query'!$F:$F,'Salary_OTM Query'!$B:$B,$A292,'Salary_OTM Query'!$E:$E,"=1") -> 23.65 | G292: =SUMIFS('Salary_OTM Query'!$F:$F,'Salary_OTM Query'!$B:$B,$A292,'Salary_OTM Query'!$E:$E,"=2") -> 24.27 | H292: =SUMIFS('Salary_OTM Query'!$F:$F,'Salary_OTM Query'!$B:$B,$A292,'Salary_OTM Query'!$E:$E,"=3") -> 24.88 | I292: =SUMIFS('Salary_OTM Query'!$F:$F,'Salary_OTM Query'!$B:$B,$A292,'Salary_OTM Query'!$E:$E,"=4") -> 25.61 | J292: =SUMIFS('Salary_OTM Query'!$F:$F,'Salary_OTM Query'!$B:$B,$A292,'Salary_OTM Query'!$E:$E,"=5") -> 26.54 | K292: =SUMIFS('Salary_OTM Query'!$F:$F,'Salary_OTM Query'!$B:$B,$A292,'Salary_OTM Query'!$E:$E,"=6") -> 27.56 | L292: =SUMIFS('Salary_OTM Query'!$F:$F,'Salary_OTM Query'!$B:$B,$A292,'Salary_OTM Query'!$E:$E,"=7") -> 28.76 | M292: =SUMIFS('Salary_OTM Query'!$F:$F,'Salary_OTM Query'!$B:$B,$A292,'Salary_OTM Query'!$E:$E,"=8") -> 0 | N292: =SUMIFS('Salary_OTM Query'!$F:$F,'Salary_OTM Query'!$B:$B,$A292,'Salary_OTM Query'!$E:$E,"=9") -> 0
A293: 24432 | B293: Safety and Health Inspector 2 | C293: 38361 | D293: 7 | E293: 29 | F293: =SUMIFS('Salary_OTM Query'!$F:$F,'Salary_OTM Query'!$B:$B,$A293,'Salary_OTM Query'!$E:$E,"=1") -> 24.88 | G293: =SUMIFS('Salary_OTM Query'!$F:$F,'Salary_OTM Query'!$B:$B,$A293,'Salary_OTM Query'!$E:$E,"=2") -> 25.61 | H293: =SUMIFS('Salary_OTM Query'!$F:$F,'Salary_OTM Query'!$B:$B,$A293,'Salary_OTM Query'!$E:$E,"=3") -> 26.54 | I293: =SUMIFS('Salary_OTM Query'!$F:$F,'Salary_OTM Query'!$B:$B,$A293,'Salary_OTM Query'!$E:$E,"=4") -> 27.56 | J293: =SUMIFS('Salary_OTM Query'!$F:$F,'Salary_OTM Query'!$B:$B,$A293,'Salary_OTM Query'!$E:$E,"=5") -> 28.76 | K293: =SUMIFS('Salary_OTM Query'!$F:$F,'Salary_OTM Query'!$B:$B,$A293,'Salary_OTM Query'!$E:$E,"=6") -> 30.1 | L293: =SUMIFS('Salary_OTM Query'!$F:$F,'Salary_OTM Query'!$B:$B,$A293,'Salary_OTM Query'!$E:$E,"=7") -> 31.47 | M293: =SUMIFS('Salary_OTM Query'!$F:$F,'Salary_OTM Query'!$B:$B,$A293,'Salary_OTM Query'!$E:$E,"=8") -> 0 | N293: =SUMIFS('Salary_OTM Query'!$F:$F,'Salary_OTM Query'!$B:$B,$A293,'Salary_OTM Query'!$E:$E,"=9") -> 0
...

Sheet Instructions
A1: PayRange Booklet Update - Job Aid 1.26.24
AZ50: 12. Upload excel sheet to Cloudinary (My Resources)

Sheet Salary_OTM Query
A1: AC_SALARY_OTM | B1: 10822
A2: Set ID | B2: Job Code | C2: Descr | D2: Grade | E2: Step | F2: Hrly Rate
A3: STATE | B3: 12121 | C3: Statistics Clerk | D3: 027 | E3: 1 | F3: 22.59
A4: STATE | B4: 12121 | C4: Statistics Clerk | D4: 027 | E4: 2 | F4: 23.28
A5: STATE | B5: 12121 | C5: Statistics Clerk | D5: 027 | E5: 3 | F5: 23.65
A6: STATE | B6: 12121 | C6: Statistics Clerk | D6: 027 | E6: 4 | F6: 24.27
A7: STATE | B7: 12121 | C7: Statistics Clerk | D7: 027 | E7: 5 | F7: 24.88
A8: STATE | B8: 12121 | C8: Statistics Clerk | D8: 027 | E8: 6 | F8: 25.61
A9: STATE | B9: 12121 | C9: Statistics Clerk | D9: 027 | E9: 7 | F9: 26.54
A10: STATE | B10: 12131 | C10: Telephone Operator 1 | D10: 004 | E10: 1 | F10: 20.78
A11: STATE | B11: 12131 | C11: Telephone Operator 1 | D11: 004 | E11: 2 | F11: 21.28
A12: STATE | B12: 12131 | C12: Telephone Operator 1 | D12: 004 | E12: 3 | F12: 21.83
A13: STATE | B13: 12131 | C13: Telephone Operator 1 | D13: 004 | E13: 4 | F13: 22.29
A14: STATE | B14: 12132 | C14: Telephone Operator 2 | D14: 025 | E14: 1 | F14: 21.02
... A10837: STATE | B10837: 86341 | C10837: Dental Hygienist | D10837: 011 | E10837: 6 | F10837: 37.75

Sheet 2024- Change Log
A1: Effective Date | B1: Job code | C1: Classification | D1: BU | E1: Pay Range | F1: Action | G1: Specific Action
A2: 45305 | B2: 99520 | C2: Digital Academy Analyst | D2: 99 | E2: E3 | F2: New Class | G2: New Classification
A3: 45305 | B3: 61595 | C3: Health Care Facilities Officer Surveyor Supervisor 1 | D3: EX | E3: 14 | F3: MQ change | G3: Adding additional MQ & Changing internal MQ from 6 mos. exp. to 12 mos. exp.
A4: 45305 | B4: 61596 | C4: Health Care Facilities Officer Surveyor Supervisor 2 | D4: EX | E4: 15 | F4: MQ change | G4: Adding additional internal equivalencies MQs, changing 2nd MQ from 12 mos. exp. to 24 mos. exp.
A5: 45305 | B5: 26520 | C5: Fire Safety Inspector Trainee | D5: 7 | E5: 28 | F5: New class | G5: New Classification
A6: 45305 | B6: 26521 | C6: Fire Safety Inspector | D6: 7 | E6: 32 | F6: PR change/Revisions | G6: PR change from PR30 to PR32, general revisions and removal of Associate core program MQ.
A7: 45305 | B7: 26525 | C7: Fire Safety Inspector Supervisor | D7: EX | E7: 12 | F7: Revisions | G7: Minor revisions, wording.
A8: 45305 | B8: 26529 | C8: Inspection Bureau Chief | D8: EX | E8: 14 | F8: Revisions | G8: Minor revisions, wording.
A9: 45319 | B9: 22212 | C9: Wildlife Area Technician | D9: 13 | E9: 27 | F9: Deletion | G9: Deleting class, transfering duties to Coordinator level
A10: 45319 | B10: 22213 | C10: Wildlife Area Coordinator | D10: 13 | E10: 28 | F10: Revisions | G10: Updated job duties, MWCs, and adjustment of MQs (i.e., reordering, removal of internal MQ & addition of 24 mos. exp MQ).
A11: 45319 | B11: 26520 | C11: Fire Safety Inspector Trainee | D11: 7 | E11: 28 | F11: New class | G11: New Classification
A12: 45319 | B12: 26521 | C12: Fire Safety Inspector | D12: 7 | E12: 32 | F12: PR change/Revisions | G12: PR change from PR30 to PR32, general revisions and removal of Associate core program MQ.
A13: 45319 | B13: 26525 | C13: Fire Safety Inspector Supervisor | D13: EX | E13: 12 | F13: Revisions | G13: Minor revisions, wording.
A14: 45319 | B14: 26529 | C14: Inspection Bureau Chief | D14: EX | E14: 14 | F14: Revisions | G14: Minor revisions, wording.
A15: 45319 | B15: 63891 | C15: Assistant Public Defender | D15: EX | E15: 13 | F15: Revisions | G15: Minor revisions, wording in e.g. statements only - "Collaborates in areas of expertise with internal & external community and governmental parties to help indigent defense systems & litigate systemic issues (e.g., sets direction to assists county public defenders & members of the private bar in researching complex legal issues & preparing briefs, memoranda, & motions; independently renders legal advice to county public defenders & members of the private bar; plans & co/leads develops & delivers training for internal & external parties).
A16: 45319 | B16: 63892 | C16: Supervising Assistant Public Defender | D16: EX | E16: 14 | F16: Revisions | G16: Revisions to MQ's - Admission to Ohio Bar pursuant to Section 4705.01; 3 yrs. exp. as licensed attorney practicing criminal law; 6 mos. exp. in employee training & development. (changed from "6 mos. exp in supervisory principles & techniques")
A17: 45319 | B17: 63893 | C17: Managing Assistant Public Defender | D17: EX | E17: 15 | F17: Revisions | G17: Revisions to MQ's - Admission to Ohio Bar pursuant to Section 4705.01; 5 yrs. exp. as licensed attorney practicing criminal law; 6 mos. exp. in supervisory principles & techniques. (changed from "12 mos. exp in supervision")
A18: 45319 | B18: 64914 | C18: Disaster Services Supervisor | D18: EX | E18: 13 | F18: Revisions | G18: Revisions to MQs - Removal of "valid driver's license" NOTE: "must be able to provide own transportation" is NOT being removed.
A19: 45347 | B19: 22221 | C19: Fish Management Technician (Now Coordinator) | D19: 6 | E19: 27 | F19: Title Change/Revisions | G19: Title change to "FM Coordinator", Additional job duties & revisions to job duties, worker characteristics. MQ Changes: Added "6 mos exp" to associate core equivency. Reordered MQs (EO). "-Or completion of associate core program in fisheries science to include 1 course in chemistry; 6 mos. exp. conducting fish management surveys, data collection, operating fish sampling equipment & implementing fish management strategies; valid driver's license."
A20: 45347 | B20: 85760 | C20: Natural Resources Engineer Intern | D20: 13 | E20: 31 | F20: Deletion | G20: Deleting Class
A21: 45347 | B21: 85761 | C21: Natural Resources Engineer 1 | D21: 13 | E21: 32 | F21: MQ Changes | G21: MQ changed to "Engineering degree from recognized school or college which has been accredited by accreditation board for engineering & technology or that has been evaluated by National Council of Examiners for Engineering & Surveying (NCEES) Credentials Evaluations as meeting the NCEES Engineering Education Standard." Training & Development changes: "Must test & pass Fundamental of Engineering (FE) exam & be issued valid Engineer-In-Training (EIT) certificate by State Licensing Board within 180 days of start date."
A22: 45347 | B22: 85762 | C22: Natural Resources Engineer 2 | D22: 13 | E22: 33 | F22: MQ Changes | G22: MQ decreased to only require 1 yr of engineering exp. (was 2 yrs. exp.)
A23: 45361 | B23: 22356 | C23: Nursery Manager | D23: EX | E23: 12 | F23: Reactivation, job duties | G23: Reactivation of "Nursery Management" series (Manager level ONLY). Minor changes to old job duties.
A24: 45361 | B24: 66775 | C24: Insurance Licensing Supervisor | D24: EX | E24: 14 | F24: PR change, Job duties, MQS | G24: Job duties updated, Worker characteristics updated, PR increased from 11 to 14. MQ Changes: "5 yrs. exp. in insurance field" and "48 mos. exp. as Insurance Licensing Examiner, 66771."
A25: 45361 | B25: 66776 | C25: Insurance Licensing Manager 1 | D25: EX | E25: 13 | F25: Deletion | G25: Deleting Class
A26: 45361 | B26: 66776 | C26: Insurance Licensing Manager 2 (now Administrator) | D26: EX | E26: 16 | F26: Title change, PR update, Job Duties, MQS | G26: Title change to "Insurance Licensing Administrator", Revisions to job duties. PR increased from 15 to 16. MQ Changes: "Completion of undergraduate core program in business, insurance, criminal justice, law enforcement, computer science or liberal arts; 7 yrs. exp. in insurance field (i.e., regulatory, industry) (e.g., agent licensing, compliance, & legal) to include 24 mos. trg. or 24 mos. exp. in management &/or employee training & development and 12 mos. trg. or 12 mos. exp. in operation of personal computer." "-Or 24 months experience as Insurance Licensing Supervisor, 66755." "-Or equivalent of Minimum Class Qualifications For Employment noted above."
A27: 45375 | B27: 52471 | C27: Highway Patrol Electronic Technician 1 | D27: 1 | E27: 9 | F27: MQ Changes | G27: Changed exp from 24 to 18, added note about credit hours for technical program, removed training and development requirements. Language change in MQS.18 mos. exp. in installation, repair & workings of mobile communication equipment or vehicular electronics; for positions requiring travel, must possess & maintain valid driver’s license per Section 4507.02 (A)(1) of Revised Code.
A28: 45375 | B28: 52472 | C28: Highway Patrol Electronic Technician 2 | D28: 1 | E28: 11 | F28: MQ Changes | G28: Added associate core program MQ, Removed license requirement from MQ - moved to training and development. Language change in MQs. Added note about credit hours for technical program. Completion of two-year technical program in electronics or radio communications & 24 mos. exp. in electronics or radio communications position; for positions requiring travel, must possess & maintain valid driver’s license per Section 4507.02 (A)(1) of Revised Code. -Or completion of associate core program in electronic engineering & 24 mos. exp. in electronics, telecommunications, or radio communications position; for positions requiring travel, must possess & maintain valid driver’s license per Section 4507.02 (A)(1) of Revised Code. -Or equivalent of Minimum Class Qualification For Employment noted above. Note: To meet the minimum qualifications through completion of a 2 yr. technical program, applicants must be able to verify that the technical program consisted of a minimum of 21 credit hours upon completion.
A29: 45375 | B29: 52473 | C29: Highway Patrol Electronic Technician 3 | D29: 1 | E29: 12 | F29: MQ Changes | G29: Same changes as 2nd level
A30: 45375 | B30: 52475 | C30: Highway Patrol Electronic Technician Manager | D30: EX | E30: 14 | F30: MQ Changes | G30: Language changes in MQs, added note about technical program & credit hours. Completion of two-year technical program in electronics, telecommunications, or radio communications & 4 yrs. exp. in electronics, or radio communications position; hold General Radio Telephone Operator's License issued by Federal Communications Commission.; 3 courses or 9 mos. exp. in inventory control; 1 course or 3 mos. exp. in public relations; 1 course or 3 mos. exp. in finance or economics covering topics of budgeting. -Or equivalent of Minimum Class Qualification For Employment noted above. Note: To meet the minimum qualifications through completion of a 2 yr. technical program, applicants must be able to verify that the technical program consisted of a minimum of 21 credit hours upon completion.
A31: 45375 | B31: 26295 | C31: Healthcare Investigator Specialist Supervisor | D31: EX | E31: 14 | F31: Reactivation of supervisor level | G31: Bringing back supervisor level that was deleted (26295)
A32: 45389 | B32: 64623 | C32: Instructional Service Provider | D32: 12 | E32: 11 | F32: New Classification | G32: New Classification for OOD only
A33: 45389 | B33: 65732 | C33: Environmental Health Specialist 2 | D33: 13 | E33: 33 | F33: MQ changes | G33: Under "All Other Positions" Added college degree MQs: Graduated from an accredited college or university with at least a baccalaureate degree, including at least forty-five quarter units or thirty semester units of science courses approved by the director; and completed at least 30 months of full-time employment as an environmental health specialist; must be able to provide own transportation. -Or Graduated from an accredited college or university with at least a baccalaureate degree, completed a major in environmental health science which included an internship program approved by the director; and completed at least 18 months of full-time employment as an environmental health specialist; must be able to provide own transportation. -Or Graduated from an accredited college or university with a degree higher than a baccalaureate degree, including at least forty-five quarter units or thirty semester units of science courses approved by the director; and completed at least 18 months of full-time employment as an environmental health specialist; must be able to provide own transportation.
A34: 45389 | B34: 66722 | C34: Insurance Examiner/Analyst 2 | D34: 14 | E34: 32 | F34: MQ Changes | G34: Wording changes to MQ."Accredited Financial Examiner (i.e., AFE) designation by Society of Financial Examiners; 2 yrs. department of insurance exp. &/or consulting exp. for a department of insurance related to financial solvency regulation; must provide own transportation; valid driver’s license. -Or Certified Public Accountant (i.e., CPA) designation by state accountancy board; 3 yrs. exp. in accounting, internal auditing, finance, economics or insurance; must provide own transportation; valid driver’s license. -Or Certified Financial Examiner (i.e., CFE) designation by Society of Financial Examiners; 3 yrs. department of insurance exp. &/or consulting exp. for a department of insurance related to financial solvency regulation; must provide own transportation; valid driver’s license. -Or equivalent of Minimum Class Qualifications For Employment noted above may be substituted for experience but not for mandated licensure/designation."
A35: 45389 | B35: 67322 | C35: Housing Grant Analyst 2 | D35: 14 | E35: 32 | F35: MQ Changes | G35: Adding &/or Statement to MQ under OHFA MQs: "Completion of undergraduate core program in business administration/public administration, urban planning or political science; 4 courses or 12 mos. exp. performing in financial underwriting of multifamily &/or single-family housing loans or bonds & must be able to provide own transportation."
A36: 45403 | B36: 52151 | C36: ODOT Mechanic Trainee | D36: 6 | E36: 5 | F36: New Classification | G36: New Class Series
A37: 45403 | B37: 52152 | C37: ODOT Mechanic | D37: 6 | E37: 9 | F37: New Classification | G37: New Class Series
A38: 45403 | B38: 52153 | C38: ODOT Master Mechanic | D38: 6 | E38: 10 | F38: New Classification | G38: New Class Series
A39: 45403 | B39: 52521 | C39: Natural Resources Dispatcher 1 | D39: 9 | E39: 28 | F39: Title/Revisions/PR | G39: Title Change from "Telecommunications Operator" PR change to PR 28. MQ changes
A40: 45403 | B40: 52522 | C40: Natural Resources Dispatcher 2 | D40: 9 | E40: 29 | F40: Title/Revisions | G40: Title change, minor MQ changes, Job Duties & other general Revisions
...

Sheet 2022-2023 Change Log
A1: Effective Date | B1: Job code | C1: Classification | D1: BU | E1: Pay Grade | F1: Action | G1: Change to Pay Range?
A2: 44759 | B2: 66136 | C2: Unemployment Compensation Quality Assurance Specialist | D2: 22 | E2: 12 | F2: New Classification
A3: 44773 | B3: 66721 | C3: Insurance Examiner/Analyst 1 | D3: 14 | E3: 31 | F3: New Classification
A4: 44773 | B4: 66722 | C4: Insurance Examiner/Analyst 2 | D4: 14 | E4: 32 | F4: Classification Revised
A5: 44773 | B5: 66725 | C5: Insurance Examiner/Analyst Supervisor | D5: 22 | E5: 13 | F5: Classification Revised
A6: 44773 | B6: 66726 | C6: Insurance Examiner/Analyst Administrator | D6: 22 | E6: 15 | F6: Classification Revised
A7: 44787 | B7: 44111 | C7: Hospital Aide | D7: 4 | E7: 4 | F7: Removed
A8: 44787 | B8: 44113 | C8: Hospital Aide Coordinator 1 | D8: 4 | E8: 26 | F8: Removed
A9: 44787 | B9: 44112 | C9: Therapeutic Program Worker | D9: 4 | E9: 7 | F9: Classification Revised
A10: 44787 | B10: 44114 | C10: Hospital Aide Coordinator 2 | D10: 4 | E10: 27 | F10: Classification Revised
A11: 44787 | B11: 26711 | C11: Highway Patrol Trooper | D11: 1 | E11: 12 | F11: Classification Revised
A12: 44801 | B12: 85561 | C12: Surveyor 1 | D12: 7 | E12: 31 | F12: Classification Revised
A13: 44801 | B13: 85562 | C13: Surveyor 2 | D13: 7 | E13: 32 | F13: Classification Revised
... A31: 45053 | B31: 83281 | C31: Public Health Laboratory Administrator | D31: 22 | E31: 47 | F31: Classification Revised
A32: 45067 | B32: 85645 | C32: Transportation Engineer 5 | D32: 22 | E32: 16 | F32: Classification Revised | G32: No
A33: 45081 | B33: 66484 | C33: IT Internal Auditor | D33: 14 | E33: 34 | F33: Classification Revised | G33: Yes
A34: 45109 | B34: 61581 | C34: Health Care Facilities Field Surveyor- Entry | D34: 11 | E34: 12 | F34: Classification Revised | G34: No
A35: 45109 | B35: 61582 | C35: Health Care Facilities Field Surveyor- Independent | D35: 11 | E35: 13 | F35: Classification Revised | G35: No
A36: 45109 | B36: 61585 | C36: Health Care Facilities Field Surveyor Supervisor 1 | D36: 22 | E36: 14 | F36: Classification Revised | G36: No
A37: 45109 | B37: 61586 | C37: Health Care Facilities Field Surveyor Supervisor 2 | D37: 22 | E37: 15 | F37: Classification Revised | G37: No
A38: 45109 | B38: 69632 | C38: Teaching Supervisor 2 | D38: 22 | E38: 12 | F38: Classification Revised | G38: No
A39: 45109 | B39: 26713 | C39: Highway Patrol Sergeant | D39: 15 | E39: 14 | F39: Classification Revised | G39: Yes | H39: LOA pay rate change
A40: 45108 | B40: 26714 | C40: Highway Patrol Lieutenant | D40: 22 | E40: 15 | F40: Classification Revised | G40: Yes | H40: LOA pay rate change
A41: 45108 | B41: 26715 | C41: Highway Patrol Staff Lieutenant | D41: 22 | E41: 16 | F41: Classification Revised | G41: Yes | H41: LOA pay rate change
A42: 45108 | B42: 26716 | C42: Highway Patrol Captain | D42: 22 | E42: 17 | F42: Classification Revised | G42: Yes | H42: LOA pay rate change
A43: 45108 | B43: 26717 | C43: Highway Patrol Major | D43: 22 | E43: 18 | F43: Classification Revised | G43: Yes | H43: LOA pay rate change
A44: 45108 | B44: 26718 | C44: Highway Patrol Lieutenant Colonel | D44: 22 | E44: 19 | F44: Classification Revised | G44: Yes | H44: LOA pay rate change
A45: 45137 | B45: 65755 | C45: Oral Health Supervisor | D45: 22 | E45: 13 | F45: Classification Revised | G45: No | H45: Removed title language
A46: 45193 | B46: 64936 | C46: Public Safety Intelligence Administrator | D46: 22 | E46: 15 | F46: New Classification | G46: No - new | H46: Administrator level added to series
A47: 45193 | B47: 65735 | C47: Environmental Health Specialist Supervisor | D47: 22 | E47: 13 | F47: Title changed | G47: No | H47: Formerly Sanitarian specialist sup
